BEGIN:VCALENDAR
VERSION:2.0
PRODID:-//Berks Latino Workforce Development - ECPv6.15.20//NONSGML v1.0//EN
CALSCALE:GREGORIAN
METHOD:PUBLISH
X-ORIGINAL-URL:https://blwdc.org
X-WR-CALDESC:Events for Berks Latino Workforce Development
REFRESH-INTERVAL;VALUE=DURATION:PT1H
X-Robots-Tag:noindex
X-PUBLISHED-TTL:PT1H
BEGIN:VTIMEZONE
TZID:America/New_York
BEGIN:DAYLIGHT
TZOFFSETFROM:-0500
TZOFFSETTO:-0400
TZNAME:EDT
DTSTART:20210314T070000
END:DAYLIGHT
BEGIN:STANDARD
TZOFFSETFROM:-0400
TZOFFSETTO:-0500
TZNAME:EST
DTSTART:20211107T060000
END:STANDARD
BEGIN:DAYLIGHT
TZOFFSETFROM:-0500
TZOFFSETTO:-0400
TZNAME:EDT
DTSTART:20220313T070000
END:DAYLIGHT
BEGIN:STANDARD
TZOFFSETFROM:-0400
TZOFFSETTO:-0500
TZNAME:EST
DTSTART:20221106T060000
END:STANDARD
BEGIN:DAYLIGHT
TZOFFSETFROM:-0500
TZOFFSETTO:-0400
TZNAME:EDT
DTSTART:20230312T070000
END:DAYLIGHT
BEGIN:STANDARD
TZOFFSETFROM:-0400
TZOFFSETTO:-0500
TZNAME:EST
DTSTART:20231105T060000
END:STANDARD
END:VTIMEZONE
BEGIN:VEVENT
DTSTART;TZID=America/New_York:20220623T110000
DTEND;TZID=America/New_York:20220623T170000
DTSTAMP:20260423T154658
CREATED:20230212T135548Z
LAST-MODIFIED:20230212T135711Z
UID:3183-1655982000-1656003600@blwdc.org
SUMMARY:Job Fair | Feria de Empleo
DESCRIPTION:We have great job opportunities available for you in different fields!\n¡Tenemos grandes oportunidades de trabajo disponibles para ti en diferentes áreas!
URL:https://blwdc.org/event/job-fair-feria-de-empleo/
LOCATION:Berks Latino Workforce Development Corporation\, 450 S 6th Street\, Reading\, PA\, 19602\, United States
CATEGORIES:Job Fair
ATTACH;FMTTYPE=image/jpeg:https://blwdc.org/wp-content/uploads/2023/02/287990163_428490749120499_7208734520067321372_n.jpg
ORGANIZER;CN="Berks Latino Workforce Development Corporation":MAILTO:info@blwdc.org
END:VEVENT
BEGIN:VEVENT
DTSTART;TZID=America/New_York:20220408T100000
DTEND;TZID=America/New_York:20220408T170000
DTSTAMP:20260423T154658
CREATED:20230212T135857Z
LAST-MODIFIED:20230212T135857Z
UID:3191-1649412000-1649437200@blwdc.org
SUMMARY:Job Fair | Feria de Empleo
DESCRIPTION:Si hablas español y estás en búsqueda de oportunidades de trabajo con salarios competitivos y excelentes beneficios\, ¡Esta feria de trabajo es para ti!\n\nSalarios: $16-$20 por hora\nBono de contratación: $1\,200\nSeguro Medico & Dental y otros beneficios\n\nIf you are a Spanish speaker looking for job opportunities with competitive wages and excellent benefits\, this job fair is for you!\n\nPay rate: $16 -$20 per hour\nSigning Bonus: $1\,200\nMedical & Dental and other benefits
URL:https://blwdc.org/event/job-fair-feria-de-empleo-2/
LOCATION:Berks Latino Workforce Development Corporation\, 450 S 6th Street\, Reading\, PA\, 19602\, United States
CATEGORIES:Job Fair
ATTACH;FMTTYPE=image/jpeg:https://blwdc.org/wp-content/uploads/2023/02/287990163_428490749120499_7208734520067321372_n.jpg
ORGANIZER;CN="Berks Latino Workforce Development Corporation":MAILTO:info@blwdc.org
END:VEVENT
END:VCALENDAR